BEGIN:VCALENDAR
VERSION:2.0
PRODID:-//Date iCal//NONSGML kigkonsult.se iCalcreator 2.20.2//
METHOD:PUBLISH
X-WR-CALNAME;VALUE=TEXT:Event Calendar
BEGIN:VEVENT
UID:calendar.9985.field_event_date.0@grange.audubon.org
DTSTAMP:20210426T195440Z
CREATED:20210131T010458Z
DESCRIPTION:Join us at the Grange Insurance Audubon Center\, each Thu\n  Th
 ursday\, June 2\, 2022 - \n10:00 to 10:45
DTSTART:20220602T100000Z
DTEND:20220602T104500Z
LAST-MODIFIED:20210322T021205Z
LOCATION:505 W WHITTIER ST\, Columbus\, Ohio\, 43215\, United States
SUMMARY:Preschool Story Time
URL;TYPE=URI:https://grange.audubon.org/events/preschool-story-time-73
END:VEVENT
END:VCALENDAR
