BEGIN:VCALENDAR
VERSION:2.0
PRODID:-//Date iCal//NONSGML kigkonsult.se iCalcreator 2.20.2//
METHOD:PUBLISH
X-WR-CALNAME;VALUE=TEXT:Event Calendar
BEGIN:VEVENT
UID:calendar.9932.field_event_date.0@grange.audubon.org
DTSTAMP:20210426T121642Z
CREATED:20210131T010458Z
DESCRIPTION:Join us at the Grange Insurance Audubon Center\, each Thu\n  Th
 ursday\, January 27\, 2022 - \n09:00 to 09:45
DTSTART:20220127T090000Z
DTEND:20220127T094500Z
LAST-MODIFIED:20210324T030848Z
LOCATION:505 W WHITTIER ST\, Columbus\, Ohio\, 43215\, United States
SUMMARY:Preschool Story Time
URL;TYPE=URI:https://grange.audubon.org/events/preschool-story-time-4
END:VEVENT
END:VCALENDAR
