BEGIN:VCALENDAR
VERSION:2.0
PRODID:-//Date iCal//NONSGML kigkonsult.se iCalcreator 2.20.2//
METHOD:PUBLISH
X-WR-CALNAME;VALUE=TEXT:Event Calendar
BEGIN:VEVENT
UID:calendar.9918.field_event_date.0@grange.audubon.org
DTSTAMP:20210425T215252Z
CREATED:20210130T000439Z
DESCRIPTION:Join us at the Grange Insurance Audubon Center\, each Thu\n  Th
 ursday\, December 9\, 2021 - \n09:00 to 09:45
DTSTART:20211209T090000Z
DTEND:20211209T094500Z
LAST-MODIFIED:20210324T030848Z
LOCATION:505 W WHITTIER ST\, Columbus\, Ohio\, 43215\, United States
SUMMARY:Preschool Story Time
URL;TYPE=URI:https://grange.audubon.org/events/preschool-story-time-39
END:VEVENT
END:VCALENDAR
