BEGIN:VCALENDAR
VERSION:2.0
PRODID:-//Date iCal//NONSGML kigkonsult.se iCalcreator 2.20.2//
METHOD:PUBLISH
X-WR-CALNAME;VALUE=TEXT:Event Calendar
BEGIN:VEVENT
UID:calendar.9854.field_event_date.0@grange.audubon.org
DTSTAMP:20210426T121555Z
CREATED:20210125T200802Z
DESCRIPTION:Join us at the Grange Insurance Audubon Center\, each Tue\n  Tu
 esday\, December 28\, 2021 - \n10:00 to 10:30
DTSTART:20211228T100000Z
DTEND:20211228T103000Z
LAST-MODIFIED:20210407T121250Z
LOCATION:505 W WHITTIER ST\, Columbus\, Ohio\, 43215\, United States
SUMMARY:Turtle Tuesdays
URL;TYPE=URI:https://grange.audubon.org/events/turtle-tuesdays-7
END:VEVENT
END:VCALENDAR
