BEGIN:VCALENDAR
VERSION:2.0
PRODID:-//Date iCal//NONSGML kigkonsult.se iCalcreator 2.20.2//
METHOD:PUBLISH
X-WR-CALNAME;VALUE=TEXT:Event Calendar
BEGIN:VEVENT
UID:calendar.9469.field_event_date.0@grange.audubon.org
DTSTAMP:20210426T121714Z
CREATED:20210111T120807Z
DESCRIPTION:Come and take a hike with our center educators or Columb\n  Sat
 urday\, February 5\, 2022 - \n09:00 to 10:00
DTSTART:20220205T090000Z
DTEND:20220205T100000Z
LAST-MODIFIED:20210407T121250Z
LOCATION:505 W WHITTIER ST\, COLUMBUS\, Ohio\, 43215-7244\, United States
SUMMARY:Birdwatching for Beginners
URL;TYPE=URI:https://grange.audubon.org/events/birdwatching-beginners-102
END:VEVENT
END:VCALENDAR
