BEGIN:VCALENDAR
VERSION:2.0
PRODID:-//Date iCal//NONSGML kigkonsult.se iCalcreator 2.20.2//
METHOD:PUBLISH
X-WR-CALNAME;VALUE=TEXT:Event Calendar
BEGIN:VEVENT
UID:calendar.9450.field_event_date.0@grange.audubon.org
DTSTAMP:20210426T121632Z
CREATED:20210111T120807Z
DESCRIPTION:Come and take a hike with our center educators or Columb\n  Sat
 urday\, January 22\, 2022 - \n09:00 to 10:00
DTSTART:20220122T090000Z
DTEND:20220122T100000Z
LAST-MODIFIED:20210406T120843Z
LOCATION:505 W WHITTIER ST\, COLUMBUS\, Ohio\, 43215-7244\, United States
SUMMARY:Birdwatching for Beginners
URL;TYPE=URI:https://grange.audubon.org/events/birdwatching-beginners-84
END:VEVENT
END:VCALENDAR
