BEGIN:VCALENDAR
VERSION:2.0
PRODID:-//Date iCal//NONSGML kigkonsult.se iCalcreator 2.20.2//
METHOD:PUBLISH
X-WR-CALNAME;VALUE=TEXT:Event Calendar
BEGIN:VEVENT
UID:calendar.9421.field_event_date.0@grange.audubon.org
DTSTAMP:20210427T095106Z
CREATED:20210111T120807Z
DESCRIPTION:Come and take a hike with our center educators or Columb\n  Sat
 urday\, August 13\, 2022 - \n10:00 to 11:00
DTSTART:20220813T100000Z
DTEND:20220813T110000Z
LAST-MODIFIED:20210405T110943Z
LOCATION:505 W WHITTIER ST\, COLUMBUS\, Ohio\, 43215-7244\, United States
SUMMARY:Birdwatching for Beginners
URL;TYPE=URI:https://grange.audubon.org/events/birdwatching-beginners-59
END:VEVENT
END:VCALENDAR
