BEGIN:VCALENDAR
VERSION:2.0
PRODID:-//Date iCal//NONSGML kigkonsult.se iCalcreator 2.20.2//
METHOD:PUBLISH
X-WR-CALNAME;VALUE=TEXT:Event Calendar
BEGIN:VEVENT
UID:calendar.9373.field_event_date.0@grange.audubon.org
DTSTAMP:20210425T215102Z
CREATED:20210111T120807Z
DESCRIPTION:Come and take a hike with our center educators or Columb\n  Sat
 urday\, November 27\, 2021 - \n09:00 to 10:00
DTSTART:20211127T090000Z
DTEND:20211127T100000Z
LAST-MODIFIED:20210407T121250Z
LOCATION:505 W WHITTIER ST\, COLUMBUS\, Ohio\, 43215-7244\, United States
SUMMARY:Birdwatching for Beginners
URL;TYPE=URI:https://grange.audubon.org/events/birdwatching-beginners-11
END:VEVENT
END:VCALENDAR
