BEGIN:VCALENDAR
VERSION:2.0
PRODID:-//Date iCal//NONSGML kigkonsult.se iCalcreator 2.20.2//
METHOD:PUBLISH
X-WR-CALNAME;VALUE=TEXT:Event Calendar
BEGIN:VEVENT
UID:calendar.11042.field_event_date.0@grange.audubon.org
DTSTAMP:20210922T193550Z
CREATED:20210703T174450Z
DESCRIPTION:Come have an adventure and engage in imaginative play in\n  Sat
 urday\, February 12\, 2022 (All day)
DTSTART;VALUE=DATE:20220212
DTEND;VALUE=DATE:20220213
LAST-MODIFIED:20210921T144016Z
LOCATION:505 W Whittier Street\, Columbus\, Ohio\, 43215\, United States
SUMMARY:Forest Playroom Private Family/Playgroup Reservation - Grange Insur
 ance Audubon Center
URL;TYPE=URI:https://grange.audubon.org/events/forest-playroom-private-fami
 lyplaygroup-reservation-grange-insurance-audubon-center-291
END:VEVENT
END:VCALENDAR
