BEGIN:VCALENDAR
VERSION:2.0
PRODID:-//Date iCal//NONSGML kigkonsult.se iCalcreator 2.20.2//
METHOD:PUBLISH
X-WR-CALNAME;VALUE=TEXT:Event Calendar
BEGIN:VEVENT
UID:calendar.10272.field_event_date.0@grange.audubon.org
DTSTAMP:20210922T192147Z
CREATED:20210610T145707Z
DESCRIPTION:Join us at the Grange Insurance Audubon Center\, each Tue\n  Tu
 esday\, May 17\, 2022 - \n11:30 to 12:00
DTSTART:20220517T113000Z
DTEND:20220517T120000Z
LAST-MODIFIED:20210610T145707Z
LOCATION:505 W Whittier Street\, Columbus\, Ohio\, 43215\, United States
SUMMARY:Turtle Tuesday!
URL;TYPE=URI:https://grange.audubon.org/events/turtle-tuesday-9
END:VEVENT
END:VCALENDAR
