BEGIN:VCALENDAR
VERSION:2.0
PRODID:-//Date iCal//NONSGML kigkonsult.se iCalcreator 2.20.2//
METHOD:PUBLISH
X-WR-CALNAME;VALUE=TEXT:Event Calendar
BEGIN:VEVENT
UID:calendar.10105.field_event_date.0@grange.audubon.org
DTSTAMP:20210422T215048Z
CREATED:20210327T050652Z
DESCRIPTION:Join Justin Grubb of Running Wild Media for this worksho\n  Thu
 rsday\, April 29\, 2021 - \n11:00 to 13:00
DTSTART:20210429T110000Z
DTEND:20210429T130000Z
LAST-MODIFIED:20210407T121250Z
LOCATION:505 W WHITTIER ST\, Columbus\, Ohio\, 43215\, United States
SUMMARY:Art at Audubon: Conservation Through a Lens Workshop: Introduction 
 to Wildlife Photography
URL;TYPE=URI:https://grange.audubon.org/events/art-audubon-conservation-thr
 ough-lens-workshop-introduction-wildlife-photography-0
END:VEVENT
END:VCALENDAR
