BEGIN:VCALENDAR
VERSION:2.0
PRODID:-//Date iCal//NONSGML kigkonsult.se iCalcreator 2.20.2//
METHOD:PUBLISH
X-WR-CALNAME;VALUE=TEXT:Event Calendar
BEGIN:VEVENT
UID:calendar.10100.field_event_date.0@grange.audubon.org
DTSTAMP:20210422T215038Z
CREATED:20210326T050347Z
DESCRIPTION:Join Justin Grubb of Running Wild Media for this worksho\n  Sat
 urday\, April 24\, 2021 - \n15:00 to 16:00
DTSTART:20210424T150000Z
DTEND:20210424T160000Z
LAST-MODIFIED:20210407T121250Z
LOCATION:505 W WHITTIER ST\, Columbus\, Ohio\, 43215\, United States
SUMMARY:Art at Audubon: Conservation Through a Lens Workshop: Using Media t
 o Interpret the Natural World
URL;TYPE=URI:https://grange.audubon.org/events/art-audubon-conservation-thr
 ough-lens-workshop-using-media-interpret-natural-world-2
END:VEVENT
END:VCALENDAR
